BEGIN:VCALENDAR
X-WR-CALNAME;VALUE=TEXT:SF State WebCalendar
X-WR-CALDESC;VALUE=TEXT:Upcoming events at SF State University
X-WR-TIMEZONE;VALUE=TEXT:US/Pacific
CALSCALE:GREGORIAN
METHOD:PUBLISH
VERSION:2.0
PRODID:-//SF State University//WebCalendar//EN
BEGIN:VTIMEZONE
TZID:America/Los_Angeles
BEGIN:STANDARD
DTSTART:19700101T000000
TZOFFSETFROM:-0700
TZOFFSETTO:-0800
TZNAME:PST
END:STANDARD
END:VTIMEZONE
BEGIN:VEVENT
UID:20260427T173000-60125@sfsu.edu
SUMMARY:Marcella Durand Poetry Reading
LOCATION:HUM 512 The Poetry Center
DESCRIPTION:Cost - Free\nEmail - poetry@sfsu.edu\n\nMarcella Durand's newest collection of poetry, The Temple of Happiness, is forthcoming from Black Square Editions in August 2026. Her book, A Winter Triangle, was selected by Srikanth Reddy for the 2024 Poetic Justice Institute Prize and published by Fordham University Press in 2025. She is the co-editor with Jennifer Firestone of Other Influences: The Untold History of Avant-Garde Feminist Poetry (MIT Press, 2024). Undisciplining the Fields is a conversation, reading (and sometimes performance) series that invites writers, artists, filmmakers and scholars from a range of fields to discuss and share their cross-disciplinary practices and thinking. Initiated by George and Judy Marcus Chair in Poetry Tonya M. Foster, in collaboration with The Poetry Center at San Francisco State University.
URL;TYPE=URI:http://poetry.sfsu.edu
DTSTART;TZID=America/Los_Angeles:20260427T173000
DTEND;TZID=America/Los_Angeles:20260427T190000
DTSTAMP:20260427T173000
LAST-MODIFIED:20260427T1730001Z
END:VEVENT
END:VCALENDAR
