BEGIN:VCALENDAR
X-WR-CALNAME;VALUE=TEXT:SF State WebCalendar
X-WR-CALDESC;VALUE=TEXT:Upcoming events at SF State University
X-WR-TIMEZONE;VALUE=TEXT:US/Pacific
CALSCALE:GREGORIAN
METHOD:PUBLISH
VERSION:2.0
PRODID:-//SF State University//WebCalendar//EN
BEGIN:VTIMEZONE
TZID:America/Los_Angeles
BEGIN:STANDARD
DTSTART:19700101T000000
TZOFFSETFROM:-0700
TZOFFSETTO:-0800
TZNAME:PST
END:STANDARD
END:VTIMEZONE
BEGIN:VEVENT
UID:20260428T153000-60124@sfsu.edu
SUMMARY:Peter Casey Fellow Speaker
LOCATION:Marcus Hall 224
DESCRIPTION:Email - beca@sfsu.edu\n\nHannah Montana co-creator Michael Poryes has been named the Peter and Rosemary Casey Executive Fellow for Spring 2026. All interested are invited to attend “A Conversation with Michael Poryes: The Creative Career in the Age of AI” on Tuesday, April 28 at 3:30 – 4:45 p.m. in MH 224.
DTSTART;TZID=America/Los_Angeles:20260428T153000
DTEND;TZID=America/Los_Angeles:20260428T164500
DTSTAMP:20260428T153000
LAST-MODIFIED:20260428T1530001Z
END:VEVENT
END:VCALENDAR
