BEGIN:VCALENDAR
X-WR-CALNAME;VALUE=TEXT:SF State WebCalendar
X-WR-CALDESC;VALUE=TEXT:Upcoming events at SF State University
X-WR-TIMEZONE;VALUE=TEXT:US/Pacific
CALSCALE:GREGORIAN
METHOD:PUBLISH
VERSION:2.0
PRODID:-//SF State University//WebCalendar//EN
BEGIN:VTIMEZONE
TZID:America/Los_Angeles
BEGIN:STANDARD
DTSTART:19700101T000000
TZOFFSETFROM:-0700
TZOFFSETTO:-0800
TZNAME:PST
END:STANDARD
END:VTIMEZONE
BEGIN:VEVENT
UID:20260429T110000-60111@sfsu.edu
SUMMARY:10th Annual LCA Undergraduate Research Showcase
LOCATION:Seven Hills Conference Center
DESCRIPTION:Email - sbyun@sfsu.edu\n\nThe College of Liberal & Creative Arts’ 10th annual Undergraduate Research Showcase will be held on Wednesday, April 29, 11 a.m. – 2:30 p.m., at Seven Hills Conference Center. The College will celebrate the research and creative works of undergraduates across all of its disciplines and academic levels. The event includes lunch and refreshments, resource tables and raffles. All are welcome.
URL;TYPE=URI:https://lca.sfsu.edu/showcase
DTSTART;TZID=America/Los_Angeles:20260429T110000
DTEND;TZID=America/Los_Angeles:20260429T143000
DTSTAMP:20260429T110000
LAST-MODIFIED:20260429T1100001Z
END:VEVENT
END:VCALENDAR
