BEGIN:VCALENDAR
X-WR-CALNAME;VALUE=TEXT:SF State WebCalendar
X-WR-CALDESC;VALUE=TEXT:Upcoming events at SF State University
X-WR-TIMEZONE;VALUE=TEXT:US/Pacific
CALSCALE:GREGORIAN
METHOD:PUBLISH
VERSION:2.0
PRODID:-//SF State University//WebCalendar//EN
BEGIN:VTIMEZONE
TZID:America/Los_Angeles
BEGIN:STANDARD
DTSTART:19700101T000000
TZOFFSETFROM:-0700
TZOFFSETTO:-0800
TZNAME:PST
END:STANDARD
END:VTIMEZONE
BEGIN:VEVENT
UID:20260429T130000-60075@sfsu.edu
SUMMARY:Analog Days @ Digital Media Studio and MakerSpace
LOCATION:LIB 260
DESCRIPTION:Cost - Free\nEmail - at@sfsu.edu\n\nExplore analog and vintage technology with 8mm/16mm film projectors, vinyl recordings, reel-to-reel tapes and recorders, radio cartridges and players, and other photo and movie film equipment. Get hands-on with pre-digital tools! Analog Days are April 29 — May 1, 2026, from 1— 5 p.m. in LIB 260.
URL;TYPE=URI:https://at.sfsu.edu/event/analog-days-apr-29-2026
DTSTART;TZID=America/Los_Angeles:20260429T130000
DTEND;TZID=America/Los_Angeles:20260429T170000
DTSTAMP:20260429T130000
LAST-MODIFIED:20260429T1300001Z
END:VEVENT
END:VCALENDAR
