BEGIN:VCALENDAR
X-WR-CALNAME;VALUE=TEXT:SF State WebCalendar
X-WR-CALDESC;VALUE=TEXT:Upcoming events at SF State University
X-WR-TIMEZONE;VALUE=TEXT:US/Pacific
CALSCALE:GREGORIAN
METHOD:PUBLISH
VERSION:2.0
PRODID:-//SF State University//WebCalendar//EN
BEGIN:VTIMEZONE
TZID:America/Los_Angeles
BEGIN:STANDARD
DTSTART:19700101T000000
TZOFFSETFROM:-0700
TZOFFSETTO:-0800
TZNAME:PST
END:STANDARD
END:VTIMEZONE
BEGIN:VEVENT
UID:20260216T144200-59332@sfsu.edu
SUMMARY:Spring '26 Adding Classes | Permission numbers ARE Required Ends
DESCRIPTION:\nMonday, February 9, 2026 – Monday, February 16, 2026
DTSTART;VALUE=DATE:20260216
DTEND;VALUE=DATE:20260217
DTSTAMP:20260216T144200
LAST-MODIFIED:20260216T1442001Z
END:VEVENT
END:VCALENDAR
