BEGIN:VCALENDAR
X-WR-CALNAME;VALUE=TEXT:SF State WebCalendar
X-WR-CALDESC;VALUE=TEXT:Upcoming events at SF State University
X-WR-TIMEZONE;VALUE=TEXT:US/Pacific
CALSCALE:GREGORIAN
METHOD:PUBLISH
VERSION:2.0
PRODID:-//SF State University//WebCalendar//EN
BEGIN:VTIMEZONE
TZID:America/Los_Angeles
BEGIN:STANDARD
DTSTART:19700101T000000
TZOFFSETFROM:-0700
TZOFFSETTO:-0800
TZNAME:PST
END:STANDARD
END:VTIMEZONE
BEGIN:VEVENT
UID:20251027T143500-59325@sfsu.edu
SUMMARY:Spring '26 Class Schedule on the Web
DESCRIPTION:\nMonday, October 27, 2025
DTSTART;VALUE=DATE:20251027
DTEND;VALUE=DATE:20251028
DTSTAMP:20251027T143500
LAST-MODIFIED:20251027T1435001Z
END:VEVENT
END:VCALENDAR
